BEGIN:VCALENDAR
VERSION:2.0
PRODID:-//Squarespace Inc/Squarespace 6//v6//EN
BEGIN:VEVENT
UID:58814febd482e9da5c439e4e@squarespace.com
DTSTAMP:20171107T015339Z
DTSTART:20170408T230000Z
DTEND:20170409T063000Z
SUMMARY:FIRST STEPS TO CHANGE : Mackay : One Day Intensive Program
GEO:-21.144001;149.189028
LOCATION:Grays Chiropractic\, 19 Gordon Street\, Mackay QLD\, Australia
END:VEVENT
END:VCALENDAR
