BEGIN:VCALENDAR
VERSION:2.0
PRODID:-//Squarespace Inc/Squarespace 6//v6//EN
BEGIN:VEVENT
UID:5a966d9108522939c93ad3c6@squarespace.com
DTSTAMP:20190829T041945Z
DTSTART:20191008T090000Z
DTEND:20191112T103000Z
SUMMARY:FIRST STEPS TO CHANGE : ONLINE : SIX WEEK PROGRAM Tuesdays
GEO:-35.320751;148.232503
LOCATION:ONLINE\, Australia
END:VEVENT
END:VCALENDAR
