BEGIN:VCALENDAR
VERSION:2.0
PRODID:-//Squarespace Inc/Squarespace 6//v6//EN
BEGIN:VEVENT
UID:5a7a73b90d9297738571be81@squarespace.com
DTSTAMP:20190829T042110Z
DTSTART:20190807T090000Z
DTEND:20190911T103000Z
SUMMARY:FIRST STEPS TO CHANGE : ONLINE : SIX WEEK PROGRAM Wednesdays
GEO:-35.320751;148.232503
LOCATION:ONLINE\, Australia
END:VEVENT
END:VCALENDAR
