BEGIN:VCALENDAR
VERSION:2.0
PRODID:-//Squarespace Inc/Squarespace 6//v6//EN
BEGIN:VEVENT
UID:5a0119e6c83025f46726a3d3@squarespace.com
DTSTAMP:20180209T032856Z
DTSTART:20171209T230000Z
DTEND:20171210T063000Z
SUMMARY:SHOP YOUR WAY TO HEALTH : TUMUT : ONE HOUR WORKSHOP
GEO:-35.320751;148.232503
LOCATION:TUMUT\, Tumut NSW\, Australia
END:VEVENT
END:VCALENDAR
