BEGIN:VCALENDAR
VERSION:2.0
PRODID:-//Squarespace Inc/Squarespace 6//v6//EN
BEGIN:VEVENT
UID:5a011223e4966b32611ec22f@squarespace.com
DTSTAMP:20180207T035235Z
DTSTART:20171209T230000Z
DTEND:20171210T063000Z
SUMMARY:FIRST STEPS TO CHANGE : TUMUT : ONE DAY INTENSIVE PROGRAM
GEO:-35.320751;148.232503
LOCATION:TUMUT\, Tumut NSW\, Australia
END:VEVENT
END:VCALENDAR
