BEGIN:VCALENDAR
VERSION:2.0
PRODID:-//Squarespace Inc/Squarespace 6//v6//EN
BEGIN:VEVENT
UID:5a7d1578652dea7a024203e0@squarespace.com
DTSTAMP:20180209T034045Z
DTSTART:20180212T233000Z
DTEND:20180213T123000Z
SUMMARY:SHOP YOUR WAY TO HEALTH : HUONVILLE\, TAS : ONE HOUR WORKSHOP
GEO:-43.029519;147.058031
LOCATION:HUONVILLE\, HUONVILLE\, TAS\, Australia
END:VEVENT
END:VCALENDAR
