BEGIN:VCALENDAR
VERSION:2.0
PRODID:-//Squarespace Inc/Squarespace 6//v6//EN
BEGIN:VEVENT
UID:586e280ad1758e14c2223822@squarespace.com
DTSTAMP:20170314T103628Z
DTSTART:20170318T230000Z
DTEND:20170319T063000Z
SUMMARY:FIRST STEPS TO CHANGE : Emerald : One Day Intensive Program
GEO:-23.525501;148.158865
LOCATION:Harris Chiropractic Clinic\, 27 Clermont Street\, Emerald\, QLD\, 
 4720\, Australia
END:VEVENT
END:VCALENDAR
