BEGIN:VCALENDAR
VERSION:2.0
PRODID:-//Squarespace Inc/Squarespace 6//v6//EN
BEGIN:VEVENT
UID:587f173059cc680cabd0e922@squarespace.com
DTSTAMP:20170314T103709Z
DTSTART:20170325T230000Z
DTEND:20170326T063000Z
SUMMARY:FIRST STEPS TO CHANGE : Dysart : One Day Intensive Program
GEO:-22.588351;148.349823
LOCATION:Dysart QLD\, Australia
END:VEVENT
END:VCALENDAR
