BEGIN:VCALENDAR
VERSION:2.0
PRODID:-//Squarespace Inc/Squarespace 6//v6//EN
BEGIN:VEVENT
UID:58ca1ad003596e662a40bca6@squarespace.com
DTSTAMP:20170321T072837Z
DTSTART:20170401T230000Z
DTEND:20170402T063000Z
SUMMARY:FIRST STEPS TO CHANGE : Moranbah : One Day Intensive Program
GEO:-22.004711;148.053172
LOCATION:Moranbah Tennis\, Tallon Street\, Moranbah QLD\, Australia
END:VEVENT
END:VCALENDAR
