BEGIN:VCALENDAR
VERSION:2.0
PRODID:-//Squarespace Inc/Squarespace 6//v6//EN
BEGIN:VEVENT
UID:5d1d3e6711031d0001e10deb@squarespace.com
DTSTAMP:20190829T045458Z
DTSTART:20190903T233000Z
DTEND:20190925T003000Z
SUMMARY:COFFEE : CONNECTION : COACHING - Wednesday's (am)
END:VEVENT
END:VCALENDAR
