BEGIN:VCALENDAR
VERSION:2.0
PRODID:-//Squarespace Inc/Squarespace 6//v6//EN
BEGIN:VEVENT
UID:5876d25d46c3c482a9774207@squarespace.com
DTSTAMP:20170125T081004Z
DTSTART:20170204T223000Z
DTEND:20170205T070000Z
SUMMARY:FIRST STEPS TO CHANGE : Hervey Bay : One Day Event
GEO:-25.285476;152.845874
LOCATION:Toast Espresso Bar\, 1/6 Neils Street\, Pialba\, QLD\, 4655\, Aust
 ralia
END:VEVENT
END:VCALENDAR
